BEGIN:VCALENDAR
VERSION:2.0
PRODID:-//Commune de Bernissart - ECPv6.15.18//NONSGML v1.0//EN
CALSCALE:GREGORIAN
METHOD:PUBLISH
X-WR-CALNAME:Commune de Bernissart
X-ORIGINAL-URL:https://www.bernissart.be
X-WR-CALDESC:Évènements pour Commune de Bernissart
REFRESH-INTERVAL;VALUE=DURATION:PT1H
X-Robots-Tag:noindex
X-PUBLISHED-TTL:PT1H
BEGIN:VTIMEZONE
TZID:UTC
BEGIN:STANDARD
TZOFFSETFROM:+0000
TZOFFSETTO:+0000
TZNAME:UTC
DTSTART:20240101T000000
END:STANDARD
END:VTIMEZONE
BEGIN:VEVENT
DTSTART;TZID=UTC:20251130T090000
DTEND;TZID=UTC:20251130T120000
DTSTAMP:20260426T022817
CREATED:20251024T115401Z
LAST-MODIFIED:20251113T123257Z
UID:10000008-1764493200-1764504000@www.bernissart.be
SUMMARY:Distribution d'arbres
DESCRIPTION:Le 30 novembre de 9h à 12h sur le parking du Centre Administratif du Préau (rue du Fraity\, 76 à 7320 Bernissart) \nInfo : 069/59.00.64 \nservice.environnement@bernissart.be
URL:https://www.bernissart.be/evenement/distribution-darbres/
LOCATION:Centre Administratif du Préau\, Rue du Fraity\, 76\, Bernissart\, 7320\, Belgium
ATTACH;FMTTYPE=image/jpeg:https://www.bernissart.be/wp-content/uploads/2025/02/distribution-abres.jpg
END:VEVENT
BEGIN:VEVENT
DTSTART;TZID=UTC:20251123T100000
DTEND;TZID=UTC:20251123T170000
DTSTAMP:20260426T022817
CREATED:20251113T125151Z
LAST-MODIFIED:20251114T135316Z
UID:10000012-1763892000-1763917200@www.bernissart.be
SUMMARY:Bernissart au passé composé
DESCRIPTION:Exposition de photos anciennes de l’entité. \nEntrée gratuite – Boissons sur place \n 
URL:https://www.bernissart.be/evenement/bernissart-au-passe-compose-2/2025-11-23/
LOCATION:Bibliothèque communale\, Place de Blaton\, 7\, Blaton\, 7321\, Belgium
CATEGORIES:Maison Rurale
ATTACH;FMTTYPE=image/jpeg:https://www.bernissart.be/wp-content/uploads/2025/11/expo-photos-anciennes.jpg
END:VEVENT
BEGIN:VEVENT
DTSTART;TZID=UTC:20251123T080000
DTEND;TZID=UTC:20251123T120000
DTSTAMP:20260426T022817
CREATED:20251113T121736Z
LAST-MODIFIED:20251113T123047Z
UID:10000009-1763884800-1763899200@www.bernissart.be
SUMMARY:Petit déjeuner Oxfam
DESCRIPTION:Réunissons-nous autour d’un petit déjeuner savoureux et solidaire à Blaton. \nRetrouvons le plaisir de nous rassembler pour partager en toute convivialité de savoureux produits équitables\, bios\, locaux… en solidarité avec les producteurs·rice·s et artisan·e·s d’ici et d’ailleurs ! \nNous vous donnons rendez-vous\, le dimanche 23 novembre 2025 à partir de 8h à l’Ecole Libre de Blaton. \nParticiper à ce petit déjeuner Oxfam\, c’est soutenir les actions et projets d’Oxfam-Magasins du monde\, qui milite pour plus de justice économique\, sociale et climatique.\nCette année\, une partie des bénéfices engendrés par les petits déjeuners sera destinée à Allpa\, une organisation péruvienne de commerce équitable\, partenaire d’Oxfam-Magasins du monde depuis plus de 13 ans. \nEn pratique : \nPrix conscient: contribution libre à partir de 6 €/adulte\, 4 €/enfant (-12 ans). Vous payez ce qui vous semble juste en fonction de vos moyens.
URL:https://www.bernissart.be/evenement/petit-dejeuner-oxfam/
LOCATION:Ecole libre de Blaton\, Rue de Basècles\, 1\, Blaton\, 7321\, Belgium
ATTACH;FMTTYPE=image/jpeg:https://www.bernissart.be/wp-content/uploads/2025/11/oxfam.jpg
END:VEVENT
BEGIN:VEVENT
DTSTART;TZID=UTC:20251122T100000
DTEND;TZID=UTC:20251122T170000
DTSTAMP:20260426T022817
CREATED:20251113T124942Z
LAST-MODIFIED:20251114T135328Z
UID:10000010-1763805600-1763830800@www.bernissart.be
SUMMARY:Bernissart au passé composé
DESCRIPTION:Exposition de photos anciennes de l’entité. \nEntrée gratuite – Boissons sur place \n 
URL:https://www.bernissart.be/evenement/bernissart-au-passe-compose/
LOCATION:Bibliothèque communale\, Place de Blaton\, 7\, Blaton\, 7321\, Belgium
CATEGORIES:Maison Rurale
ATTACH;FMTTYPE=image/jpeg:https://www.bernissart.be/wp-content/uploads/2025/11/expo-photos-anciennes.jpg
END:VEVENT
END:VCALENDAR